BEGIN:VCALENDAR
VERSION:2.0
PRODID:-// - ECPv5.8.2//NONSGML v1.0//EN
CALSCALE:GREGORIAN
METHOD:PUBLISH
X-ORIGINAL-URL:https://swidba.com
X-WR-CALDESC:Events for 
BEGIN:VTIMEZONE
TZID:America/Boise
BEGIN:DAYLIGHT
TZOFFSETFROM:-0700
TZOFFSETTO:-0600
TZNAME:MDT
DTSTART:20240310T090000
END:DAYLIGHT
BEGIN:STANDARD
TZOFFSETFROM:-0600
TZOFFSETTO:-0700
TZNAME:MST
DTSTART:20241103T080000
END:STANDARD
END:VTIMEZONE
BEGIN:VEVENT
DTSTART;TZID=America/Boise:20240803T100000
DTEND;TZID=America/Boise:20240803T140000
DTSTAMP:20260425T041827
CREATED:20240107T212708Z
LAST-MODIFIED:20240716T203534Z
UID:915-1722679200-1722693600@swidba.com
SUMMARY:Saturday Market
DESCRIPTION:Join us Saturday\, August 3rd from 10am – 2pm for our Star Saturday Market!\nFeaturing a variety of local Treasure Valley vendors from Local Small businesses and food vendors to crafters\, non-profits and more.\nA little something for everyone so come join us and support local!\nFind us at Midstar Firearms!\nInterested in being a vendor?\nPlease email swidbavendors@gmail.com with what items you create and sell.\nStephanie pike is the only contact for this event
URL:https://swidba.com/event/saturday-market-7/
LOCATION:MidStar Firearms\, 8390 Hwy 44\, Middleton\, ID\, 83644\, United States
CATEGORIES:Saturday Market
ATTACH;FMTTYPE=image/png:https://swidba.com/wp-content/uploads/2024/01/Thank-you-to-Midstar-Firearms-for-letting-us-use-their-property-2.png
END:VEVENT
BEGIN:VEVENT
DTSTART;TZID=America/Boise:20240809T190000
DTEND;TZID=America/Boise:20240809T213000
DTSTAMP:20260425T041827
CREATED:20240107T211941Z
LAST-MODIFIED:20240107T211941Z
UID:903-1723230000-1723239000@swidba.com
SUMMARY:Summer Concert Series - Featuring Push2Play
DESCRIPTION:We are excited to once again partner with the City of Star and bring you some great local live music to celebrate summer down at the Riverhouse!\nBring a picnic\, low backed chairs or blankets\, and enjoy music from Push2Play.\nPush2Play is a Boise based folk rock band bringing you a range from blues to rock to americana!\nLocal winery\, Sol Invictus will once again have wine for sale. Outside food welcome. No pets please.
URL:https://swidba.com/event/summer-concert-series-featuring-push2play-2/
LOCATION:Star Riverhouse\, 960 S. Main St\, Star\, ID\, 83669\, United States
CATEGORIES:Summer Concert at the Riverhouse
ATTACH;FMTTYPE=image/png:https://swidba.com/wp-content/uploads/2024/01/Aug-9.png
END:VEVENT
BEGIN:VEVENT
DTSTART;TZID=America/Boise:20240823T190000
DTEND;TZID=America/Boise:20240823T213000
DTSTAMP:20260425T041827
CREATED:20240107T211742Z
LAST-MODIFIED:20240107T211742Z
UID:901-1724439600-1724448600@swidba.com
SUMMARY:Summer Concert Series - Featuring Sweet Briar
DESCRIPTION:We are excited to once again partner with the City of Star and bring you some great local live music to celebrate summer down at the Riverhouse!\nBring a picnic\, low backed chairs or blankets\, and enjoy music from Sweet Briar.\nSweet Briar is a local Country Rock Band!\nLocal winery\, Sol Invictus will once again have wine for sale. Outside food welcome. No pets please.
URL:https://swidba.com/event/summer-concert-series-featuring-sweet-briar-2/
LOCATION:Star Riverhouse\, 960 S. Main St\, Star\, ID\, 83669\, United States
CATEGORIES:Summer Concert at the Riverhouse
ATTACH;FMTTYPE=image/png:https://swidba.com/wp-content/uploads/2024/01/Aug-23.png
END:VEVENT
END:VCALENDAR