BEGIN:VCALENDAR
VERSION:2.0
PRODID:-// - ECPv5.8.2//NONSGML v1.0//EN
CALSCALE:GREGORIAN
METHOD:PUBLISH
X-ORIGINAL-URL:https://swidba.com
X-WR-CALDESC:Events for 
BEGIN:VTIMEZONE
TZID:America/Boise
BEGIN:DAYLIGHT
TZOFFSETFROM:-0700
TZOFFSETTO:-0600
TZNAME:MDT
DTSTART:20220313T090000
END:DAYLIGHT
BEGIN:STANDARD
TZOFFSETFROM:-0600
TZOFFSETTO:-0700
TZNAME:MST
DTSTART:20221106T080000
END:STANDARD
END:VTIMEZONE
BEGIN:VEVENT
DTSTART;TZID=America/Boise:20220312T100000
DTEND;TZID=America/Boise:20220312T140000
DTSTAMP:20260424T054057
CREATED:20220209T203918Z
LAST-MODIFIED:20220209T203918Z
UID:660-1647079200-1647093600@swidba.com
SUMMARY:St. Patrick's Market
DESCRIPTION:Follow the rainbow to the pot of gold and join us for our St. Patrick’s Market! We’re hosting local vendors with many different products including sweets & treats\, home décor\, crafts\, and more! Support small business and shop local!\nRSVP to the Facebook event here
URL:https://swidba.com/event/st-patricks-market/
LOCATION:Mill Creek Elementary School\, 500 N Middleton Rd\, Middleton\, ID\, 93644\, United States
ATTACH;FMTTYPE=image/jpeg:https://swidba.com/wp-content/uploads/2022/02/St-Patricks-Market-WEB.jpg
END:VEVENT
BEGIN:VEVENT
DTSTART;TZID=America/Boise:20220330T170000
DTEND;TZID=America/Boise:20220330T190000
DTSTAMP:20260424T054057
CREATED:20220311T205539Z
LAST-MODIFIED:20220311T205539Z
UID:713-1648659600-1648666800@swidba.com
SUMMARY:Off The Clock
DESCRIPTION:Join SWIDBA at the Star Riverhouse on March 30 for our FIRST official OFF THE CLOCK! Cash bar provided by Helena Marie’s. Light snacks provided by SWIDBA.
URL:https://swidba.com/event/off-the-clock/
LOCATION:Star Riverhouse\, 960 S. Main St\, Star\, ID\, 83669\, United States
CATEGORIES:Off The Clock
ATTACH;FMTTYPE=image/png:https://swidba.com/wp-content/uploads/2022/03/Off-the-Clock-meeting-website-event.png
END:VEVENT
END:VCALENDAR