BEGIN:VCALENDAR
VERSION:2.0
PRODID:-// - ECPv5.8.2//NONSGML v1.0//EN
CALSCALE:GREGORIAN
METHOD:PUBLISH
X-ORIGINAL-URL:https://swidba.com
X-WR-CALDESC:Events for 
BEGIN:VTIMEZONE
TZID:America/Boise
BEGIN:DAYLIGHT
TZOFFSETFROM:-0700
TZOFFSETTO:-0600
TZNAME:MDT
DTSTART:20210314T090000
END:DAYLIGHT
BEGIN:STANDARD
TZOFFSETFROM:-0600
TZOFFSETTO:-0700
TZNAME:MST
DTSTART:20211107T080000
END:STANDARD
END:VTIMEZONE
BEGIN:VEVENT
DTSTART;TZID=America/Boise:20211211T100000
DTEND;TZID=America/Boise:20211211T120000
DTSTAMP:20260425T041727
CREATED:20211109T222057Z
LAST-MODIFIED:20211109T222301Z
UID:495-1639216800-1639224000@swidba.com
SUMMARY:Reindeer Ramble
DESCRIPTION:Join us for Star’s FIRST EVER Reindeer Ramble! This is the last fundraiser of 2021 benefiting Star Outreach. Come walk\, trot\, dash\, prance\, or ramble at Hunter Creek Park with your friends and family at this great community event! \nShirts are guaranteed if you register by November 15. If you register after November 15\, we’ll still have shirts available at the event\, but they’ll be first come first served until we run out. \nAntlers will be given away to the first 100 people who pick up their shirt on Reindeer Ramble morning!
URL:https://swidba.com/event/reindeer-ramble/
LOCATION:Hunters Creek Park\, Star\, 1500 N Star Rd\, Star\, ID\, 83669\, United States
CATEGORIES:Reindeer Ramble
ATTACH;FMTTYPE=image/jpeg:https://swidba.com/wp-content/uploads/2021/11/Reindeer-Ramble-web-event.jpg
END:VEVENT
END:VCALENDAR