BEGIN:VCALENDAR
VERSION:2.0
PRODID:-// - ECPv5.8.2//NONSGML v1.0//EN
CALSCALE:GREGORIAN
METHOD:PUBLISH
X-ORIGINAL-URL:https://swidba.com
X-WR-CALDESC:Events for 
BEGIN:VTIMEZONE
TZID:America/Boise
BEGIN:DAYLIGHT
TZOFFSETFROM:-0700
TZOFFSETTO:-0600
TZNAME:MDT
DTSTART:20240310T090000
END:DAYLIGHT
BEGIN:STANDARD
TZOFFSETFROM:-0600
TZOFFSETTO:-0700
TZNAME:MST
DTSTART:20241103T080000
END:STANDARD
END:VTIMEZONE
BEGIN:VEVENT
DTSTART;VALUE=DATE:20240704
DTEND;VALUE=DATE:20240705
DTSTAMP:20260421T144039
CREATED:20240219T225656Z
LAST-MODIFIED:20240219T225656Z
UID:940-1720051200-1720137599@swidba.com
SUMMARY:Star Hometown Celebration
DESCRIPTION:8 AM Firecracker Fun Run\nThe Fun Run begins in the NW Parking Lot of Hunter’s Creek Park. The race begins at 8:00 a.m. sharp. Each relay team can have up to 5 runners (walking and jogging allowed)\, each leg will take one lap around the park (1km) for 5 km total. Come dressed in your most Patriotic attire!! Register for the Fun Run on the link below. $15 to enter\, includes Fun Run tee.\n9 AM Old Fashioned Pie Contest\nBring two pies to the Star Riverhouse between 9:00 and 9:20 a.m.: one for the judges and one for the auction. Cash prizes to the top three best entries. Pie judging beings at 9:30 a.m.\n10 AM Hometown Celebration Parade\nCheck-in for the parade begins at 9:00 a.m. Parade at W State Street in front of El Mariachi Loco. The parade begins at 10:00 a.m. and travels west\, ending at Star Road. Cash prizes awarded for best entries. The parade route will be closed to traffic during the approximately one-hour parade. Please plan travel accordingly. $20 per float or group to enter. Registration link below.\n11:30 AM Grand Old Flag Luncheon\nImmediately following the parade\, your city officials and their families will be serving up lunch at the Star Riverhouse. This year’s lunch is being provided by Firehouse Subs. A cash donation of $5 is requested. All money goes towards the Mayor’s Youth Scholarship Fund.\n12:00 PM All American Pie Auction\nLocal auctioneer\, Anthony Mendoza will start the pie auction at noon sharp at the Star Riverhouse\, so bring those dollars bills and help raise money for the Star Senior Center.\n3:00 PM Yankee Doodle Kid’s Zone\nWhat’s better on a hot afternoon than kid’s games with lots of water? The Star Fire Department will be at Hunter’s Creek Park to keep things cool with 3 large water tanks and squirt guns. There will be bounce houses\, slip and slides\, water obstacle courses\, and more! Your city officials will take turns in a dunk tank to raise money for the Mayor’s Youth Scholarship Fund.\n7:00 PM Raffle\nThe Mayor’s Youth Council will be selling tickets throughout the day at all venues. All money raised goes towards the Mayor’s Youth Scholarship Fund.\n8:00 PM Spirit of the Red\, White & Blue Concert\nPush to Play is a local cover band plays current pop to classic 80s and 90s favorites. It’s all on the table for you to enjoy. They will have you on your feet and dancing for sure! The stage will be in front of the U.S. Flag at Hunter’s Creek.\n10:00 PM Mayor Chadwick’s Address\nMayor Chadwick will lead us with an invocation\, the Pledge of Allegiance and reading of the U.S. Constitution’s preamble.\n10:15 PM Freedom Fireworks Show\nGet ready for the fireworks at @10:15 p.m. We may be partial\, but we think this is one of the BEST shows in the valley. A few notes about Hunters Creek Park: No smoking or pets in the park. Please remember to keep your furry family members secure at home during fireworks. Bring low back chairs and blankets to sit on. Pop-up tents are welcome but please be courteous to other visitors and keep them behind the sound and lighting booth so people in the front have an unobstructed view. The park bathrooms and south parking lot will be closed to the public for fire safety reasons. Porta potty’s will be available throughout the park. The west parking lot will be closed to vehicle traffic. Outside food is welcome\, but there will be food trucks and refreshment vendors from 3 p.m. and throughout the evening in the west parking lot. We will have traffic control to help clear traffic after the event. We encourage our local guests to walk or bicycle to the park\, if possible.
URL:https://swidba.com/event/star-hometown-celebration/
LOCATION:ID
ATTACH;FMTTYPE=image/png:https://swidba.com/wp-content/uploads/2024/02/Hometown-1.png
END:VEVENT
END:VCALENDAR