BEGIN:VCALENDAR
VERSION:2.0
PRODID:-// - ECPv5.8.2//NONSGML v1.0//EN
CALSCALE:GREGORIAN
METHOD:PUBLISH
X-ORIGINAL-URL:https://swidba.com
X-WR-CALDESC:Events for 
BEGIN:VTIMEZONE
TZID:America/Boise
BEGIN:DAYLIGHT
TZOFFSETFROM:-0700
TZOFFSETTO:-0600
TZNAME:MDT
DTSTART:20220313T090000
END:DAYLIGHT
BEGIN:STANDARD
TZOFFSETFROM:-0600
TZOFFSETTO:-0700
TZNAME:MST
DTSTART:20221106T080000
END:STANDARD
END:VTIMEZONE
BEGIN:VEVENT
DTSTART;TZID=America/Boise:20220212T100000
DTEND;TZID=America/Boise:20220212T140000
DTSTAMP:20260422T030708
CREATED:20220209T203606Z
LAST-MODIFIED:20220209T203606Z
UID:653-1644660000-1644674400@swidba.com
SUMMARY:Valentine's Day Market
DESCRIPTION:Come join us for our first market of 2022! Our Valentine’s Market will have local vendors with many different products including sweets & treats\, home décor\, crafts\, and more! Support small business and shop local!\nRSVP on Facebook here
URL:https://swidba.com/event/valentines-day-market/
LOCATION:Mill Creek Elementary School\, 500 N Middleton Rd\, Middleton\, ID\, 93644\, United States
CATEGORIES:Saturday Market
ATTACH;FMTTYPE=image/jpeg:https://swidba.com/wp-content/uploads/2022/02/Valentines-Market-WEB.jpg
END:VEVENT
END:VCALENDAR