BEGIN:VCALENDAR
VERSION:2.0
PRODID:-// - ECPv5.8.2//NONSGML v1.0//EN
CALSCALE:GREGORIAN
METHOD:PUBLISH
X-ORIGINAL-URL:https://swidba.com
X-WR-CALDESC:Events for 
BEGIN:VTIMEZONE
TZID:America/Boise
BEGIN:DAYLIGHT
TZOFFSETFROM:-0700
TZOFFSETTO:-0600
TZNAME:MDT
DTSTART:20220313T090000
END:DAYLIGHT
BEGIN:STANDARD
TZOFFSETFROM:-0600
TZOFFSETTO:-0700
TZNAME:MST
DTSTART:20221106T080000
END:STANDARD
END:VTIMEZONE
BEGIN:VEVENT
DTSTART;TZID=America/Boise:20220604T100000
DTEND;TZID=America/Boise:20220604T140000
DTSTAMP:20260422T030739
CREATED:20220527T205651Z
LAST-MODIFIED:20220527T205743Z
UID:733-1654336800-1654351200@swidba.com
SUMMARY:Star Saturday Market - June
DESCRIPTION:It’s time! Our Saturday Market season starts with a great event! Big Jud’s will be serving their delicious burgers\, and the Lego Bus will be available for the little ones. New location-Star City Hall parking lot! Lots of treats\, handmade items\, jewelry\, home décor\, and artisan crafts. Shop-Support-Spend Local. Interested in becoming a vendor? Email Stephanie Pike @: swidbavendors@gmail.com Stephanie is the only person that will send out applications and invoices.
URL:https://swidba.com/event/star-saturday-market/
LOCATION:Star City Hall\, 10769 W State St\, Star\, ID\, 83669\, United States
CATEGORIES:Saturday Market
ATTACH;FMTTYPE=image/png:https://swidba.com/wp-content/uploads/2022/05/WEB_SATURDAY-MARKET_JUne-4.png
END:VEVENT
END:VCALENDAR