BEGIN:VCALENDAR
VERSION:2.0
PRODID:-// - ECPv5.8.2//NONSGML v1.0//EN
CALSCALE:GREGORIAN
METHOD:PUBLISH
X-ORIGINAL-URL:https://swidba.com
X-WR-CALDESC:Events for 
BEGIN:VTIMEZONE
TZID:America/Boise
BEGIN:DAYLIGHT
TZOFFSETFROM:-0700
TZOFFSETTO:-0600
TZNAME:MDT
DTSTART:20210314T090000
END:DAYLIGHT
BEGIN:STANDARD
TZOFFSETFROM:-0600
TZOFFSETTO:-0700
TZNAME:MST
DTSTART:20211107T080000
END:STANDARD
END:VTIMEZONE
BEGIN:VEVENT
DTSTART;TZID=America/Boise:20211009T113000
DTEND;TZID=America/Boise:20211009T143000
DTSTAMP:20260421T081533
CREATED:20210923T205851Z
LAST-MODIFIED:20210929T154924Z
UID:465-1633779000-1633789800@swidba.com
SUMMARY:Final Saturday Market & Cornhole Tournament
DESCRIPTION:Join us for our FINAL Saturday Market & Summer Concert Series and Cornhole Tournament! Featuring live music\, food trucks\, and vendors. Cornhole tournament benefits Star Outreach. Cornhole Tournament has a social (FUN!) division and a competitive (SERIOUS) division. For questions\, contact Ben Longcor (benjaminlongcor@gmail.com.) Please\, no outside alcohol. Parking is allowed at Star Elementary\, please don’t block driveways\, fire hydrants\, or mailboxes on Blake Drive. \nKids are encouraged to wear costumes! Vendors will be handing out treats and the Mayor’s Youth Council will host a Halloween activity booth! \n$30/ social team or $40/competitive team ($10 of each competitive entry goes towards winner’s pot) \nREGISTER HERE
URL:https://swidba.com/event/final-saturday-market-cornhole-tournament/
LOCATION:Blake Haven Park\, 11225 W Blake Dr\, Star\, ID\, 83669\, United States
CATEGORIES:Cornhole Tournament,Saturday Market
ATTACH;FMTTYPE=image/png:https://swidba.com/wp-content/uploads/2021/09/Final-Cornhole-1600-x-1080-px.png
END:VEVENT
END:VCALENDAR